BEGIN:VCALENDAR
PRODID:-//eluceo/ical//2.0/EN
VERSION:2.0
CALSCALE:GREGORIAN
BEGIN:VEVENT
UID:cbff3353f5d10f31a3992d844888ef27
DTSTAMP:20260423T120138Z
SUMMARY:JGS Toronto  - Yad Vashem Preserving Memories and Annual Awards cer
 emony
DESCRIPTION:UJA Federation of Greater Toronto\nJewish Toronto Calendar\nhtt
 ps://jewishtoronto.com/calendar/jgs-toronto----yad-vashem-preserving-memor
 ies-and-annual-awards-ceremony-1696274847\n\nJGS TORONTO’S FIRST ANNUAL 
 AWARDS CEREMONY \nFEATURING KEYNOTE SPEAKER\, STEVEN BROCK\nLight refreshm
 ents following\nSunday\, 22 October at 10:30 a.m.\n\nIn person at Shaarei 
 Shomayim Congregation\, 470 Glencairn Avenue\, Toronto  and via Zoom\n\nTh
 is hybrid program is open to everyone. Non-members $5.00 at the door. \n\n
 Register for both in person or Zoom options at https://jgstoronto.ca/regis
 ter/
DTSTART;TZID=America/Toronto:20231022T103000
DTEND;TZID=America/Toronto:20231022T130000
END:VEVENT
END:VCALENDAR
