BEGIN:VCALENDAR
PRODID:-//eluceo/ical//2.0/EN
VERSION:2.0
CALSCALE:GREGORIAN
BEGIN:VEVENT
UID:5f94e319d2283bfc63f60ad5886dbdb7
DTSTAMP:20260420T222258Z
SUMMARY:JFCS 2023 AGM
DESCRIPTION:UJA Federation of Greater Toronto\nJewish Toronto Calendar\nhtt
 ps://jewishtoronto.com/calendar/jfcs-2023-agm\n\nDetails to follow. 
DTSTART;TZID=America/Toronto:20230928T190000
DTEND;TZID=America/Toronto:20230928T210000
END:VEVENT
END:VCALENDAR
