BEGIN:VCALENDAR
PRODID:-//eluceo/ical//2.0/EN
VERSION:2.0
CALSCALE:GREGORIAN
BEGIN:VEVENT
UID:bb73b93bbf2fc00a6c819a8a8edbd87e
DTSTAMP:20260425T134539Z
SUMMARY:Jewish Music Week in Toronto
DESCRIPTION:UJA Federation of Greater Toronto\nJewish Toronto Calendar\nhtt
 ps://jewishtoronto.com/calendar/jewish-music-week-in-toronto-1681065892\n\
 nJewish Music Week is an exciting week of concerts\, recitals and musical 
 events throughout the Greater Toronto Area. Founded in 2011\, the festival
  celebrates all styles of Jewish music\, as well as the Jewish contributio
 n to genres of music not generally thought of as Jewish.\nOur programs inc
 lude Sephardic and Klezmer\, Holocaust music and Israeli pop\, Broadway an
 d Hollywood\, Chassidic Nigunim and Yiddish Theatre\, Jazz and Big Band\, 
 Cantorial\, folk\, gospel\, bluegrass and more!﻿ Jewish Music W...
DTSTART;TZID=America/Toronto:20230528T100000
DTEND;TZID=America/Toronto:20230604T210000
END:VEVENT
END:VCALENDAR
