BEGIN:VCALENDAR
PRODID:-//eluceo/ical//2.0/EN
VERSION:2.0
CALSCALE:GREGORIAN
BEGIN:VEVENT
UID:e891bfde5bc7adcb124a4349c1750a76
DTSTAMP:20260420T061412Z
SUMMARY:Jewish Genealogical Society of Toronto. USING NEWSPAPERS FOR RESEAR
 CH
DESCRIPTION:UJA Federation of Greater Toronto\nJewish Toronto Calendar\nhtt
 ps://jewishtoronto.com/calendar/jewish-genealogical-society-of-toronto-usi
 ng-newspapers-for-research-1704041236\n\nJEWISH GENEALOGICAL SOCIETY OF TO
 RONTO\n\nPRESENTS\nREAD ALL ABOUT IT ! USING ONLINE NEWSPAPERS FOR GENEALO
 GICAL RESEARCH\n\nSpeaker: Janice M. Sellers\n\nWednesday\, 17 January 202
 4\, 7:30 pm ET\nVirtual Meeting: Join from Home
DTSTART;TZID=America/Toronto:20240117T193000
DTEND;TZID=America/Toronto:20240117T210000
END:VEVENT
END:VCALENDAR
