BEGIN:VCALENDAR
PRODID:-//eluceo/ical//2.0/EN
VERSION:2.0
CALSCALE:GREGORIAN
BEGIN:VEVENT
UID:38d52199e1802d781d2503b24879ff32
DTSTAMP:20260422T120916Z
SUMMARY:Jewish Genealogical Society of Toronto. Genealogy and Technology
DESCRIPTION:UJA Federation of Greater Toronto\nJewish Toronto Calendar\nhtt
 ps://jewishtoronto.com/calendar/jewish-genealogical-society-of-toronto-gen
 ealogy-and-technology-1682513297\n\nJEWISH GENEALOGICAL SOCIETY OF TORONTO
 \nGenealogy and Technology\nSpeaker: Jerry Scherer\n\nSunday\, 7 May 2023 
 at 10:30 a.m. ET\nVIRTUAL MEETING: Join from Home
DTSTART;TZID=America/Toronto:20230507T103000
DTEND;TZID=America/Toronto:20230507T120000
END:VEVENT
END:VCALENDAR
