BEGIN:VCALENDAR
PRODID:-//eluceo/ical//2.0/EN
VERSION:2.0
CALSCALE:GREGORIAN
BEGIN:VEVENT
UID:d7a666d90383abf2ac4e3b7ae439540b
DTSTAMP:20260419T155532Z
SUMMARY:Jewish Genealogical Society of Toronto. DNA Q&A SIG workshop
DESCRIPTION:UJA Federation of Greater Toronto\nJewish Toronto Calendar\nhtt
 ps://jewishtoronto.com/calendar/jewish-genealogical-society-of-toronto-dna
 -qa-sig-workshop-1704040090\n\nJEWISH GENEALOGICAL SOCIETY OF TORONTO\n \n
 DNA SPECIAL INTEREST GROUP (SIG)\nQ&A WORKSHOP\n\nFeaturing our JGS Toront
 o members\,\nGil Bardige and Arthur Sissman\n\nSunday\, 28 January 2024 at
  10:30 am. ET\n\nVIRTUAL MEETING: Join from Home\nVirtual doors open at 10
 :20 a.m. ET
DTSTART;TZID=America/Toronto:20240128T103000
DTEND;TZID=America/Toronto:20240128T115500
END:VEVENT
END:VCALENDAR
