BEGIN:VCALENDAR
PRODID:-//eluceo/ical//2.0/EN
VERSION:2.0
CALSCALE:GREGORIAN
BEGIN:VEVENT
UID:d936bce68b1621bc5b42b6239ff77e33
DTSTAMP:20260421T000641Z
SUMMARY:JEWISH COMEDY FESTIVAL PRESENTS: LAUGH IT UP 4 ISRAEL
DESCRIPTION:UJA Federation of Greater Toronto\nJewish Toronto Calendar\nhtt
 ps://jewishtoronto.com/calendar/jewish-comedy-festival-presents-laugh-it-u
 p-4-israel-1701803123\n\nJoin us this Boxing day for Laugh it up 4 Israel.
 \n\nFeaturing Toronto's Top Pro and up and coming Jewish comedians.\n\nFea
 turing: Ariel Kagan\, Ronen Geisler\, Natalie Norman\, Brandon Zakkai\, Je
 remy Dobski\, with Headliner Ian Sirota.\n\nA percentage of the proceeds f
 rom the show will go to Allied Voices for Israel.
DTSTART;TZID=America/Toronto:20231226T190000
DTEND;TZID=America/Toronto:20231226T203000
END:VEVENT
END:VCALENDAR
