BEGIN:VCALENDAR
PRODID:-//eluceo/ical//2.0/EN
VERSION:2.0
CALSCALE:GREGORIAN
BEGIN:VEVENT
UID:d0f25032a17aff0f9ca2f8bf9577f6c3
DTSTAMP:20260420T155529Z
SUMMARY:Jewish Anti-Racist Comics: Resistance and Constraint
DESCRIPTION:UJA Federation of Greater Toronto\nJewish Toronto Calendar\nhtt
 ps://jewishtoronto.com/calendar/jewish-anti-racist-comics-resistance-and-c
 onstraint-1698261012\n\nThis program is presented by Jamie Michaels\, Toro
 nto Public Library&#039\;s Fall 2023 Writer in Residence whose focus is Gr
 aphic Novels
DTSTART;TZID=America/Toronto:20231109T190000
DTEND;TZID=America/Toronto:20231109T200000
END:VEVENT
END:VCALENDAR
