BEGIN:VCALENDAR
PRODID:-//eluceo/ical//2.0/EN
VERSION:2.0
CALSCALE:GREGORIAN
BEGIN:VEVENT
UID:2ee3f1dc5ba8aa49ace664fb444fa19e
DTSTAMP:20260420T222405Z
SUMMARY:Jerusalem Post Conference
DESCRIPTION:UJA Federation of Greater Toronto\nJewish Toronto Calendar\nhtt
 ps://jewishtoronto.com/calendar/jerusalem-post-conference-1672277201\n\nEv
 ening reception followed by full day conference
DTSTART;TZID=America/Toronto:20230911T170000
DTEND;TZID=America/Toronto:20230912T070000
END:VEVENT
END:VCALENDAR
