BEGIN:VCALENDAR
PRODID:-//eluceo/ical//2.0/EN
VERSION:2.0
CALSCALE:GREGORIAN
BEGIN:VEVENT
UID:bfd7b1188fd95ad9963fc22492b6698e
DTSTAMP:20260425T161959Z
SUMMARY:Jerusalem Post Annual Conference
DESCRIPTION:UJA Federation of Greater Toronto\nJewish Toronto Calendar\nhtt
 ps://jewishtoronto.com/calendar/jerusalem-post-annual-conference-168331408
 5\n\nDetails to follow
DTSTART;TZID=America/Toronto:20231121T000000
DTEND;TZID=America/Toronto:20231122T000000
END:VEVENT
END:VCALENDAR
