BEGIN:VCALENDAR
PRODID:-//eluceo/ical//2.0/EN
VERSION:2.0
CALSCALE:GREGORIAN
BEGIN:VEVENT
UID:47daa8a482bf16dd0d4975d737b67e31
DTSTAMP:20260421T132829Z
SUMMARY:JDAIM: We See Toronto Photography Exhibit
DESCRIPTION:UJA Federation of Greater Toronto\nJewish Toronto Calendar\nhtt
 ps://jewishtoronto.com/calendar/jdaim-we-see-toronto-photography-exhibit-1
 706213736\n\nOnce again a talented team of photographers with disabilities
  took to the streets and scenes of Toronto. The MNjcc’s Disability/Visib
 ility Program brought them together\, and they reveled in the challenge of
  making pictures that truly show you their vision of Toronto. The result i
 s an exhibition that shows just how differently we all see the same place 
 on the map of our world. Through the images you see\, their voices are add
 ed to the rich history of art depicting the history of one the great...
DTSTART;TZID=America/Toronto:20240206T183000
DTEND;TZID=America/Toronto:20240206T193000
END:VEVENT
END:VCALENDAR
