BEGIN:VCALENDAR
PRODID:-//eluceo/ical//2.0/EN
VERSION:2.0
CALSCALE:GREGORIAN
BEGIN:VEVENT
UID:fb6d864bb040a70101d22028e7f1e6b8
DTSTAMP:20260422T103506Z
SUMMARY:JDAIM: STEPS Public Art – Transforming our Neighbourhoods and Com
 munity
DESCRIPTION:UJA Federation of Greater Toronto\nJewish Toronto Calendar\nhtt
 ps://jewishtoronto.com/calendar/jdaim-steps-public-art--transforming-our-n
 eighbourhoods-and-community-1706213644\n\nSTEPS Public Art transforms our 
 urban spaces\, fostering inclusive communities through vibrant\, engaging 
 and accessible public art projects. Learn about the importance of public a
 rt\, how it supports local artists\, increases public space accessibility\
 , and transforms our neighbourhoods. This multi-access program\, presented
  as part of Jewish Disability Awareness\, Acceptance\, and Inclusion Month
  is open and accessible to all. Join us in person at the JCC or virtually!
 \n\nREGISTER HERE: https://ap...
DTSTART;TZID=America/Toronto:20240229T130000
DTEND;TZID=America/Toronto:20240229T150000
END:VEVENT
END:VCALENDAR
