BEGIN:VCALENDAR
PRODID:-//eluceo/ical//2.0/EN
VERSION:2.0
CALSCALE:GREGORIAN
BEGIN:VEVENT
UID:cd1f94ec7655e718cc338106ccde276e
DTSTAMP:20260421T023502Z
SUMMARY:JACS Comedy Night
DESCRIPTION:UJA Federation of Greater Toronto\nJewish Toronto Calendar\nhtt
 ps://jewishtoronto.com/calendar/jacs-comedy-night-1693591531\n\nComedy Nig
 ht in support of JACS Toronto
DTSTART;TZID=America/Toronto:20231122T190000
DTEND;TZID=America/Toronto:20231122T220000
END:VEVENT
END:VCALENDAR
