BEGIN:VCALENDAR
PRODID:-//eluceo/ical//2.0/EN
VERSION:2.0
CALSCALE:GREGORIAN
BEGIN:VEVENT
UID:943fcbc7ff8372fb58d580b52a99964f
DTSTAMP:20260421T113539Z
SUMMARY:Jackie Mason The Musical Live in Toronto
DESCRIPTION:UJA Federation of Greater Toronto\nJewish Toronto Calendar\nhtt
 ps://jewishtoronto.com/calendar/jackie-mason-the-musical-live-in-toronto-1
 709092617\n\nThe Jackie Mason Musical is based on the playwright’s ten y
 ear whirlwind romance with comedy legend Jackie Mason featuring a hilariou
 s cast of characters\, and starring their lovechild comic Sheba Mason and 
 Ian Wehrle as Jackie Mason. The story takes place in Miami Beach circa 197
 7 with sixteen original songs which include “Ode to The Early Bird Speci
 al”\, “I Never Met This Yenta” and “The Finger”\, highlighting t
 he romantic misadventures of Jackie Mason as Broadway stardom...
DTSTART;TZID=America/Toronto:20240413T140000
DTEND;TZID=America/Toronto:20240414T210000
END:VEVENT
END:VCALENDAR
