BEGIN:VCALENDAR
PRODID:-//eluceo/ical//2.0/EN
VERSION:2.0
CALSCALE:GREGORIAN
BEGIN:VEVENT
UID:834046c6f875cfa59b4c4436088bb457
DTSTAMP:20260421T070946Z
SUMMARY:J Tunes: The Shania Twain Experience
DESCRIPTION:UJA Federation of Greater Toronto\nJewish Toronto Calendar\nhtt
 ps://jewishtoronto.com/calendar/j-tunes-the-shania-twain-experience-169178
 0967\n\nAlyssa Depuis will perform all the hits you know and love by Shani
 a Twain and more. This interactive show will make you want to kick up your
  heels and dance!
DTSTART;TZID=America/Toronto:20231015T193000
DTEND;TZID=America/Toronto:20231015T213000
END:VEVENT
END:VCALENDAR
