BEGIN:VCALENDAR
PRODID:-//eluceo/ical//2.0/EN
VERSION:2.0
CALSCALE:GREGORIAN
BEGIN:VEVENT
UID:3d41e1f4e84adfedf7f282a06a18130a
DTSTAMP:20260420T185607Z
SUMMARY:J Tunes: Light Up the Night with ABBA Revisited: A Chanukah Special
DESCRIPTION:UJA Federation of Greater Toronto\nJewish Toronto Calendar\nhtt
 ps://jewishtoronto.com/calendar/j-tunes-light-up-the-night-with-abba-revis
 ited-a-chanukah-special-1691781945\n\nABBA Revisited is North America's #1
  tribute band. We will light the candles\, strike a pose with Dancing Quee
 n and croon to Honey Honey. Join us for a night of disco-pop spontaneity!
DTSTART;TZID=America/Toronto:20231209T200000
DTEND;TZID=America/Toronto:20231209T220000
END:VEVENT
END:VCALENDAR
