BEGIN:VCALENDAR
PRODID:-//eluceo/ical//2.0/EN
VERSION:2.0
CALSCALE:GREGORIAN
BEGIN:VEVENT
UID:c7c757296af06235b5ac4b9bd5640496
DTSTAMP:20260422T143004Z
SUMMARY:J Tunes Features Dueling Pianos with Joel Lightman and Cody Fenwick
DESCRIPTION:UJA Federation of Greater Toronto\nJewish Toronto Calendar\nhtt
 ps://jewishtoronto.com/calendar/j-tunes-features-dueling-pianos-with-joel-
 lightman-and-cody-fenwick-1681838767\n\nJoel Lightman and Cody Fenwick pla
 y the piano and sing all night with a repertoire of over 4\,000 songs thei
 r high energy\, all-request show will delight audiences of all ages.
DTSTART;TZID=America/Toronto:20230429T190000
DTEND;TZID=America/Toronto:20230429T220000
END:VEVENT
END:VCALENDAR
