BEGIN:VCALENDAR
PRODID:-//eluceo/ical//2.0/EN
VERSION:2.0
CALSCALE:GREGORIAN
BEGIN:VEVENT
UID:455d036074d58c622ca1dd43317619c2
DTSTAMP:20260422T142947Z
SUMMARY:J Tunes Features Dueling Pianos with Joel Lightman and Cody Fenwick
DESCRIPTION:UJA Federation of Greater Toronto\nJewish Toronto Calendar\nhtt
 ps://jewishtoronto.com/calendar/j-tunes-features-dueling-pianos-with-joel-
 lightman-and-cody-fenwick-1678817119\n\nAll the piano hits from Billy Joel
  to Bruce Hornsby. Joel Lightman and Cody Fenwick play the piano and sing 
 all night with a repertoire of over 4\,000 songs their high energy\, all-r
 equest show will delight audiences of all ages.
DTSTART;TZID=America/Toronto:20230429T200000
DTEND;TZID=America/Toronto:20230429T220000
END:VEVENT
END:VCALENDAR
