BEGIN:VCALENDAR
PRODID:-//eluceo/ical//2.0/EN
VERSION:2.0
CALSCALE:GREGORIAN
BEGIN:VEVENT
UID:a056edb36b3e3ab500228945f98c82da
DTSTAMP:20260422T150304Z
SUMMARY:J Tunes: Adi Braun
DESCRIPTION:UJA Federation of Greater Toronto\nJewish Toronto Calendar\nhtt
 ps://jewishtoronto.com/calendar/j-tunes-adi-braun-1691781645\n\nLet the so
 ngs transport you back to a time where Doris Day sings of Ruth Etting’s 
 woes in “Love Me or Leave Me” (1955) and you taste the bittersweet rea
 lity of life in “As Time Goes By” (1942).
DTSTART;TZID=America/Toronto:20231119T130000
DTEND;TZID=America/Toronto:20231119T150000
END:VEVENT
END:VCALENDAR
