BEGIN:VCALENDAR
PRODID:-//eluceo/ical//2.0/EN
VERSION:2.0
CALSCALE:GREGORIAN
BEGIN:VEVENT
UID:cc8851cb22a44a952809c89225e60681
DTSTAMP:20260421T161657Z
SUMMARY:J Chefs: The Ultimate Nosher Jake Cohen
DESCRIPTION:UJA Federation of Greater Toronto\nJewish Toronto Calendar\nhtt
 ps://jewishtoronto.com/calendar/j-chefs-the-ultimate-nosher-jake-cohen-169
 1780120\n\nThis not to be missed event will include a fun cooking demonstr
 ation\, an inspiring conversation moderated by the thought-provoking artis
 t Rob Shostak and a tasty treat direct from the cookbook. You Could Defini
 tely NOSH with Jake Cohen!
DTSTART;TZID=America/Toronto:20230920T190000
DTEND;TZID=America/Toronto:20230920T220000
END:VEVENT
END:VCALENDAR
