BEGIN:VCALENDAR
PRODID:-//eluceo/ical//2.0/EN
VERSION:2.0
CALSCALE:GREGORIAN
BEGIN:VEVENT
UID:df1374cf26706f941a3bf44c0bee1868
DTSTAMP:20260420T061500Z
SUMMARY:Israeli Film Series: Desperado Square (Kikar Ha-Halomot)
DESCRIPTION:UJA Federation of Greater Toronto\nJewish Toronto Calendar\nhtt
 ps://jewishtoronto.com/calendar/israeli-film-series-desperado-square-kikar
 -ha-halomot-1703173800\n\nIn collaboration with the Toronto Jewish Film Fo
 undation\, the series will showcase the finest of Israeli cinema\, fosteri
 ng cultural connections through screenings\, celebrity interviews\, and pr
 e-film gatherings.\n\nIn a dusty village on the outskirts of Tel Aviv\, th
 e late Morris Mandabon appears to his son in dream and orders him to re-op
 en their family’s now-boarded-up movie theatre\, an act that revitalizes
  the community and reawakens old passions.\n\nAn lovely and evocative film
  with a spi...
DTSTART;TZID=America/Toronto:20240221T190000
DTEND;TZID=America/Toronto:20240221T210000
END:VEVENT
END:VCALENDAR
