BEGIN:VCALENDAR
PRODID:-//eluceo/ical//2.0/EN
VERSION:2.0
CALSCALE:GREGORIAN
BEGIN:VEVENT
UID:6223546f5a727ed0c81dbabd5648249a
DTSTAMP:20260419T140535Z
SUMMARY:Israeli Cooking Class
DESCRIPTION:UJA Federation of Greater Toronto\nJewish Toronto Calendar\nhtt
 ps://jewishtoronto.com/calendar/israeli-cooking-class-1717699906\n\nCome f
 or a Night of Food\, Insight\, and Hope\nIsraeli Cooking Class in an Intim
 ate Setting
DTSTART;TZID=America/Toronto:20240618T190000
DTEND;TZID=America/Toronto:20240618T215000
END:VEVENT
END:VCALENDAR
