BEGIN:VCALENDAR
PRODID:-//eluceo/ical//2.0/EN
VERSION:2.0
CALSCALE:GREGORIAN
BEGIN:VEVENT
UID:7fbfd1f25ca468e16b8e264a96c90be3
DTSTAMP:20260423T002812Z
SUMMARY:Israel Guide Dog Center Crowdfunding Campaign
DESCRIPTION:UJA Federation of Greater Toronto\nJewish Toronto Calendar\nhtt
 ps://jewishtoronto.com/calendar/israel-guide-dog-center-crowdfunding-campa
 ign-1675802659\n\nCFIGDCB crowdfunding campaign
DTSTART;TZID=America/Toronto:20230326T010000
DTEND;TZID=America/Toronto:20230331T180000
END:VEVENT
END:VCALENDAR
