BEGIN:VCALENDAR
PRODID:-//eluceo/ical//2.0/EN
VERSION:2.0
CALSCALE:GREGORIAN
BEGIN:VEVENT
UID:262c3ba5e72070bc3ee6fa4e7c0662a6
DTSTAMP:20260421T071256Z
SUMMARY:Israel bonds & Women's Division present Or L'Dorot
DESCRIPTION:UJA Federation of Greater Toronto\nJewish Toronto Calendar\nhtt
 ps://jewishtoronto.com/calendar/israel-bonds--womens-division-present-or-l
 dorot-1686234404\n\nIsrael bonds & Women&#39\;s Division present Or L&#39\
 ;Dorot\nLocation & Event Details TBC
DTSTART;TZID=America/Toronto:20231207T190000
DTEND;TZID=America/Toronto:20231207T213000
END:VEVENT
END:VCALENDAR
