BEGIN:VCALENDAR
PRODID:-//eluceo/ical//2.0/EN
VERSION:2.0
CALSCALE:GREGORIAN
BEGIN:VEVENT
UID:3b7b23d8ab953edb5b9f7ec1b7482407
DTSTAMP:20260421T000646Z
SUMMARY:Israel Bonds - Swell Ariel Or\, The Beauty Queen of Jerusalem
DESCRIPTION:UJA Federation of Greater Toronto\nJewish Toronto Calendar\nhtt
 ps://jewishtoronto.com/calendar/israel-bonds---swell-ariel-or-the-beauty-q
 ueen-of-jerusalem-1689174768\n\nIsrael Bonds - Up Close and Personal with 
 Swell Ariel Or\, The Beauty Queen of Jerusalem\n6:30-9:00 pm\nVenue & Deta
 ils: TBC
DTSTART;TZID=America/Toronto:20231005T183000
DTEND;TZID=America/Toronto:20231005T213000
END:VEVENT
END:VCALENDAR
