BEGIN:VCALENDAR
PRODID:-//eluceo/ical//2.0/EN
VERSION:2.0
CALSCALE:GREGORIAN
BEGIN:VEVENT
UID:30f9b7dfd6fda4155f1e2c542f57cfa2
DTSTAMP:20260423T013030Z
SUMMARY:Israel and the World
DESCRIPTION:UJA Federation of Greater Toronto\nJewish Toronto Calendar\nhtt
 ps://jewishtoronto.com/calendar/israel-and-the-world-1679759033\n\nThe Can
 adian Institute for Jewish Research (CIJR) proudly presents this extremely
  significant webinar on Israel&#39\;s geopolitical position within the wor
 ld. CIJR founder and Executive Director Prof. Frederick Krantz\, a histori
 an\, and CIJR Academic Board member and political columnist Barbara Kay wi
 ll tackle the broader issues facing Israel\, including the US\, Iran\, Chi
 na and Russia.\n\nTo register\, visit the following link:\nhttps://us06web
 .zoom.us/webinar/register/WN_cgmWPcpLTY2X-t9qkLrPlQ
DTSTART;TZID=America/Toronto:20230418T193000
DTEND;TZID=America/Toronto:20230418T210000
END:VEVENT
END:VCALENDAR
