BEGIN:VCALENDAR
PRODID:-//eluceo/ical//2.0/EN
VERSION:2.0
CALSCALE:GREGORIAN
BEGIN:VEVENT
UID:d41bcaf2f1917b2369917fb73d852ae3
DTSTAMP:20260422T235859Z
SUMMARY:Israel @ 75 Community Mission - Post Mission Travel
DESCRIPTION:UJA Federation of Greater Toronto\nJewish Toronto Calendar\nhtt
 ps://jewishtoronto.com/calendar/israel-75-community-mission-p0st-mission-t
 ravel\n\nDetails to be confirmed
DTSTART;TZID=America/Toronto:20230502T120000
DTEND;TZID=America/Toronto:20230505T120000
END:VEVENT
END:VCALENDAR
