BEGIN:VCALENDAR
PRODID:-//eluceo/ical//2.0/EN
VERSION:2.0
CALSCALE:GREGORIAN
BEGIN:VEVENT
UID:24188f3f22c1d0c3b50bb670cd54dc7b
DTSTAMP:20260420T235143Z
SUMMARY:Irwin Cotler Institute for Democracy\, Human Rights & Justice
DESCRIPTION:UJA Federation of Greater Toronto\nJewish Toronto Calendar\nhtt
 ps://jewishtoronto.com/calendar/irwin-cotler-institute-for-democracy-human
 -rights-justice-1690833292\n\nAn event to celebrate the launch of the Irwi
 n Cotler Institute for Democracy\, Human Rights and Justice and Tel Aviv U
 niversity
DTSTART;TZID=America/Toronto:20231123T190000
DTEND;TZID=America/Toronto:20231123T210000
END:VEVENT
END:VCALENDAR
