BEGIN:VCALENDAR
PRODID:-//eluceo/ical//2.0/EN
VERSION:2.0
CALSCALE:GREGORIAN
BEGIN:VEVENT
UID:5339cdeb3c0114dfdc4ba556924f1f70
DTSTAMP:20260421T040850Z
SUMMARY:INfinity Prize Award
DESCRIPTION:UJA Federation of Greater Toronto\nJewish Toronto Calendar\nhtt
 ps://jewishtoronto.com/calendar/infinity-prize-award-1692561420\n\nThe INf
 inity Prize\, powered by the Azrieli Foundation\, will be awarded to a Can
 adian social enterprise that has demonstrated best practices for creating 
 meaningful and sustainable employment for neurodivergent people.\n\nThe th
 ree finalist will "pitch" the work they do that prioritizes the needs of n
 eurodiverent employees. The five judges and the audience will make the fin
 al decision at a live presentation for the $100\,000 prize.\n\nLimited tic
 kets.
DTSTART;TZID=America/Toronto:20231025T170000
DTEND;TZID=America/Toronto:20231025T190000
END:VEVENT
END:VCALENDAR
