BEGIN:VCALENDAR
PRODID:-//eluceo/ical//2.0/EN
VERSION:2.0
CALSCALE:GREGORIAN
BEGIN:VEVENT
UID:4a33b6fbbd3ddd1a2e8c92ca23bb321f
DTSTAMP:20260424T235245Z
SUMMARY:In Conversation with Rhonda Lenton
DESCRIPTION:UJA Federation of Greater Toronto\nJewish Toronto Calendar\nhtt
 ps://jewishtoronto.com/calendar/in-conversation-with-rhonda-lenton-1663695
 382\n\nAn invitation-only event by Hillel Ontario.
DTSTART;TZID=America/Toronto:20221109T193000
DTEND;TZID=America/Toronto:20221109T213000
END:VEVENT
END:VCALENDAR
