BEGIN:VCALENDAR
PRODID:-//eluceo/ical//2.0/EN
VERSION:2.0
CALSCALE:GREGORIAN
BEGIN:VEVENT
UID:4e3b94da3c68d33458dd09f5fb9f7596
DTSTAMP:20260419T155517Z
SUMMARY:In a "Land of Hope" - Documents on the Canadian Jewish Experience
DESCRIPTION:UJA Federation of Greater Toronto\nJewish Toronto Calendar\nhtt
 ps://jewishtoronto.com/calendar/in-a-land-of-hope---documents-on-the-canad
 ian-jewish-experience-1712238622\n\nThe Israel and Golda Koschitzky Centre
  for Jewish Studies at York University invites you to join us in conversat
 ion with esteemed historians Pierre Anctil and Richard Menkis about their 
 new primary source reader In a ‘Land of Hope’: Documents on the Canadi
 an Jewish Experience\, 1627-1923. This book represents the world’s first
  effort to present an expansive portrait of Canadian Jewish life using ori
 ginal documents. It draws from archives coast to coast to coast\, selectin
 g a wide host of ...
DTSTART;TZID=America/Toronto:20240416T190000
DTEND;TZID=America/Toronto:20240416T210000
END:VEVENT
END:VCALENDAR
