BEGIN:VCALENDAR
PRODID:-//eluceo/ical//2.0/EN
VERSION:2.0
CALSCALE:GREGORIAN
BEGIN:VEVENT
UID:64cc2d7bb6dc8d2961b0cd707ec39ab5
DTSTAMP:20260423T013010Z
SUMMARY:Immigrant Waves and Musical Tastes
DESCRIPTION:UJA Federation of Greater Toronto\nJewish Toronto Calendar\nhtt
 ps://jewishtoronto.com/calendar/immigrant-waves-and-musical-tastes-1680102
 734\n\nThe Koschitzky Centre for Jewish Studies and the Department of Musi
 c in the School of the Arts\, Media\, Performance and Design are proud to 
 present the panel discussion "Immigrant Waves and Musical Tastes: Jewish M
 usical Cultures in Canadian Contexts\," the last event in the inaugural ye
 ar of our "Sound and Sense: Jewish Music @ York" series.This live-only\, l
 isten-and-learn roundtable explores the great range of Jewish musical expr
 ession in the long arch of Canadian history. Expert panelists of...
DTSTART;TZID=America/Toronto:20230416T150000
DTEND;TZID=America/Toronto:20230416T170000
END:VEVENT
END:VCALENDAR
