BEGIN:VCALENDAR
PRODID:-//eluceo/ical//2.0/EN
VERSION:2.0
CALSCALE:GREGORIAN
BEGIN:VEVENT
UID:c58692f5639142f9318f1a5d2db44ce7
DTSTAMP:20260421T194329Z
SUMMARY:IMAAC POP-UP
DESCRIPTION:UJA Federation of Greater Toronto\nJewish Toronto Calendar\nhtt
 ps://jewishtoronto.com/calendar/imaac-pop-up-1715609398\n\nIsrael Museum a
 nd Arts\, Canada POP-UP Museum
DTSTART;TZID=America/Toronto:20240807T180000
DTEND;TZID=America/Toronto:20240807T220000
END:VEVENT
END:VCALENDAR
