BEGIN:VCALENDAR
PRODID:-//eluceo/ical//2.0/EN
VERSION:2.0
CALSCALE:GREGORIAN
BEGIN:VEVENT
UID:86c6a9d30ec7b7ceec5a72560e53a026
DTSTAMP:20260424T152520Z
SUMMARY:IGNITE! Tikkun Leil Chanukah: A New Festival of Jewish Culture & Le
 arning
DESCRIPTION:UJA Federation of Greater Toronto\nJewish Toronto Calendar\nhtt
 ps://jewishtoronto.com/calendar/ignite-tikkun-leil-chanukah-a-new-festival
 -of-jewish-culture--learning-1669852760\n\nIgnite a new tradition for Chan
 ukah. IGNITE! opens with a community-wide Havdalah for all ages\, then bre
 aks into a choose-your-own-adventure of arts-based workshops\, performance
 s\, and Jewish study sessions. The centrepiece of the program will include
  a hybrid live/virtual variety concert curated by the Ashkenaz Festival\, 
 in which artists from around the corner and around the world will bring us
  fresh musical performances inspired by the themes of the season. Kosher f
 ood for purchase. All are ...
DTSTART;TZID=America/Toronto:20221217T180000
DTEND;TZID=America/Toronto:20221217T200000
END:VEVENT
END:VCALENDAR
