BEGIN:VCALENDAR
PRODID:-//eluceo/ical//2.0/EN
VERSION:2.0
CALSCALE:GREGORIAN
BEGIN:VEVENT
UID:fe817a7f9fcdabac0c6dce4eb0c8d71a
DTSTAMP:20260420T153001Z
SUMMARY:iEngage: Together and Apart—The Future of Jewish Peoplehood
DESCRIPTION:UJA Federation of Greater Toronto\nJewish Toronto Calendar\nhtt
 ps://jewishtoronto.com/calendar/iengage-together-and-apartthe-future-of-je
 wish-peoplehood-1702324796\n\nOur newest 14-week iEngage video curriculum 
 explores one of the most pressing issues facing the Jewish world today–h
 ow we move from being a people with no permanent home to one with two perm
 anent homes.\n\nThrough video lectures\, interviews and textual sources\, 
 Rabbi Steven Wernick addresses the complex features of Jewish peoplehood a
 nd the contemporary challenges to the Jewish people in an era in which we 
 have moved from having no home to having two different\, vibrant\, homes i
 n Israel and...
DTSTART;TZID=America/Toronto:20231214T193000
DTEND;TZID=America/Toronto:20231214T203000
END:VEVENT
END:VCALENDAR
