BEGIN:VCALENDAR
PRODID:-//eluceo/ical//2.0/EN
VERSION:2.0
CALSCALE:GREGORIAN
BEGIN:VEVENT
UID:ffd6d30b4cca98e81c22c8c6287a9abc
DTSTAMP:20260420T221333Z
SUMMARY:iEngage: Together & Apart—The Future of Jewish Peoplehood
DESCRIPTION:UJA Federation of Greater Toronto\nJewish Toronto Calendar\nhtt
 ps://jewishtoronto.com/calendar/iengage-together--apartthe-future-of-jewis
 h-peoplehood-1697733075\n\nOur newest iEngage video curriculum explores on
 e of the most pressing issues facing the Jewish world today–how we move 
 from being a people with no permanent home to one with two permanent homes
 .\n\nThrough video lectures\, interviews and textual sources\, this 14-uni
 t course addresses the complex features of Jewish peoplehood and the conte
 mporary challenges to the Jewish people in an era in which we have moved f
 rom having no home to having two different\, vibrant\, homes in Israel and
  in North...
DTSTART;TZID=America/Toronto:20231024T193000
DTEND;TZID=America/Toronto:20231024T203000
END:VEVENT
END:VCALENDAR
