BEGIN:VCALENDAR
PRODID:-//eluceo/ical//2.0/EN
VERSION:2.0
CALSCALE:GREGORIAN
BEGIN:VEVENT
UID:3f18b7e5f7d874e3b163907ee1bbdfc7
DTSTAMP:20260423T033509Z
SUMMARY:iEngage: The Palestinian Conflict from a Jewish Values Lens
DESCRIPTION:UJA Federation of Greater Toronto\nJewish Toronto Calendar\nhtt
 ps://jewishtoronto.com/calendar/iengage-the-palestinian-conflict-from-a-je
 wish-values-lens-1672411203\n\nContinues Thursdays—January 5\, February 
 2\, March 2\, March 30\, April 27\, May 25\, June 22 and July 20\n\nJoin R
 abbi Steven Wernick each month for this monthly series where we will confr
 ont the challenges posed by the Palestinian conflict to life in Israel and
  the Middle East\, viewed through a Jewish values lens. We will connect an
 d learn about these critical issues through video\, text and discussion\, 
 utilizing video lectures from Hartman&#039\;s team of internationally reno
 wned scholars to address...
DTSTART;TZID=America/Toronto:20230105T193000
DTEND;TZID=America/Toronto:20230105T210000
END:VEVENT
END:VCALENDAR
