BEGIN:VCALENDAR
PRODID:-//eluceo/ical//2.0/EN
VERSION:2.0
CALSCALE:GREGORIAN
BEGIN:VEVENT
UID:e319b23102ddb460a5f1d872b32c0ee7
DTSTAMP:20260423T082337Z
SUMMARY:ICRF Revolving Tables 2023
DESCRIPTION:UJA Federation of Greater Toronto\nJewish Toronto Calendar\nhtt
 ps://jewishtoronto.com/calendar/icrf-revolving-tables-2023-1672766014\n\nI
 srael Cancer Research Fund's  (ICRF) mission is to continue to find treatm
 ents and cures for all forms of cancer\, utilizing the unique benefits Isr
 ael and its scientists have to offer. The results of the research have a s
 ignificant impact in Toronto\, across Canada and throughout the world.\n\n
 Israel has been at the forefront of this decade's most exciting developmen
 ts in cancer research. Help us fund life saving research by donating today
 . The answer to cancer is research. \n\nwww.icrf.ca
DTSTART;TZID=America/Toronto:20230309T190000
DTEND;TZID=America/Toronto:20230309T220000
END:VEVENT
END:VCALENDAR
