BEGIN:VCALENDAR
PRODID:-//eluceo/ical//2.0/EN
VERSION:2.0
CALSCALE:GREGORIAN
BEGIN:VEVENT
UID:aebda47495be2d68a4af456d2bcf09f8
DTSTAMP:20260420T170721Z
SUMMARY:ICRF Presents "The 80's" Annual Concert
DESCRIPTION:UJA Federation of Greater Toronto\nJewish Toronto Calendar\nhtt
 ps://jewishtoronto.com/calendar/icrf-presents-the-80s-annual-concert-16877
 94120\n\nGet your singing voices ready.... we&#039\;re bringing this year&
 #039\;s ICRF Presents experience back to Koerner Hall with your favourite 
 hits from the 80&#039\;s!Celebrate with us and support cancer research in 
 Israel. Our 11th annual family favourite event hosts hundred of Toronto’
 s guests and each year it continues to grow. Join us for unique performanc
 es and an interactive memorable evening that will have you singing in your
  seats all night!
DTSTART;TZID=America/Toronto:20231121T190000
DTEND;TZID=America/Toronto:20231121T210000
END:VEVENT
END:VCALENDAR
