BEGIN:VCALENDAR
PRODID:-//eluceo/ical//2.0/EN
VERSION:2.0
CALSCALE:GREGORIAN
BEGIN:VEVENT
UID:2e586d739494f632b4e5529d7d980393
DTSTAMP:20260422T033310Z
SUMMARY:ICFF Youth: Belle et Sebastien
DESCRIPTION:UJA Federation of Greater Toronto\nJewish Toronto Calendar\nhtt
 ps://jewishtoronto.com/calendar/icff-youth-belle-et-sebastien-1708623218\n
 \nExperience the transformative power of cinema with ICFF Youth's matinee 
 screenings\, featuring the heartwarming tale of "Belle et Sebastien".
DTSTART;TZID=America/Toronto:20240410T101500
DTEND;TZID=America/Toronto:20240410T123000
END:VEVENT
END:VCALENDAR
