BEGIN:VCALENDAR
PRODID:-//eluceo/ical//2.0/EN
VERSION:2.0
CALSCALE:GREGORIAN
BEGIN:VEVENT
UID:8b38530736c0f16e52cfbb2cd575f353
DTSTAMP:20260422T212504Z
SUMMARY:Holy Blossom Tot & Family Shabbat
DESCRIPTION:UJA Federation of Greater Toronto\nJewish Toronto Calendar\nhtt
 ps://jewishtoronto.com/calendar/holy-blossom-tot-family-shabbat\n\nHoly Bl
 ossom Tot & Family Shabbat
DTSTART;TZID=America/Toronto:20240621T000000
DTEND;TZID=America/Toronto:20240621T235959
END:VEVENT
END:VCALENDAR
