BEGIN:VCALENDAR
PRODID:-//eluceo/ical//2.0/EN
VERSION:2.0
CALSCALE:GREGORIAN
BEGIN:VEVENT
UID:8d55369d3f934732608ad54b2ea61a27
DTSTAMP:20260425T011232Z
SUMMARY:HOLD | UJA Southern Hospitality PLG Event
DESCRIPTION:UJA Federation of Greater Toronto\nJewish Toronto Calendar\nhtt
 ps://jewishtoronto.com/calendar/hold-uja-southern-hospitality-plg-eventqW3
 \n\nDetails coming soon 
DTSTART;TZID=America/Toronto:20280203T000000
DTEND;TZID=America/Toronto:20280203T235959
END:VEVENT
END:VCALENDAR
