BEGIN:VCALENDAR
PRODID:-//eluceo/ical//2.0/EN
VERSION:2.0
CALSCALE:GREGORIAN
BEGIN:VEVENT
UID:357af5376ddde2f6904fa8acd09386c6
DTSTAMP:20260423T120148Z
SUMMARY:HOLD | UJA Southern Hospitality Lion of Judah event
DESCRIPTION:UJA Federation of Greater Toronto\nJewish Toronto Calendar\nhtt
 ps://jewishtoronto.com/calendar/hold-uja-southern-hospitality-lion-of-juda
 h-eventSQw\n\nDetails coming soon
DTSTART;TZID=America/Toronto:20280207T000000
DTEND;TZID=America/Toronto:20280207T235959
END:VEVENT
END:VCALENDAR
