BEGIN:VCALENDAR
PRODID:-//eluceo/ical//2.0/EN
VERSION:2.0
CALSCALE:GREGORIAN
BEGIN:VEVENT
UID:6702e471a9c213f07af73ff14523a5c9
DTSTAMP:20260421T152336Z
SUMMARY:UJA Holocaust Education Week
DESCRIPTION:UJA Federation of Greater Toronto\nJewish Toronto Calendar\nhtt
 ps://jewishtoronto.com/calendar/hold-uja-holocaust-education-week\n\nHoloc
 aust Education Week 2023
DTSTART;TZID=America/Toronto:20231101T000000
DTEND;TZID=America/Toronto:20231108T235959
END:VEVENT
END:VCALENDAR
