BEGIN:VCALENDAR
PRODID:-//eluceo/ical//2.0/EN
VERSION:2.0
CALSCALE:GREGORIAN
BEGIN:VEVENT
UID:a353d6435b9a80d225fb1b643542d1e1
DTSTAMP:20260421T132620Z
SUMMARY:Hold | Canadian Friends of Shalva
DESCRIPTION:UJA Federation of Greater Toronto\nJewish Toronto Calendar\nhtt
 ps://jewishtoronto.com/calendar/hold--celebration-of-life-1701978671bg\n\n
 Canadian Friends of Shalva 
DTSTART;TZID=America/Toronto:20240321T000000
DTEND;TZID=America/Toronto:20240321T235959
END:VEVENT
END:VCALENDAR
