BEGIN:VCALENDAR
PRODID:-//eluceo/ical//2.0/EN
VERSION:2.0
CALSCALE:GREGORIAN
BEGIN:VEVENT
UID:68531d1fc7359f2b433a550741619369
DTSTAMP:20260423T025744Z
SUMMARY:UJA Federation | Hebrew Storytime
DESCRIPTION:UJA Federation of Greater Toronto\nJewish Toronto Calendar\nhtt
 ps://jewishtoronto.com/calendar/hebrew-storytime-1700752671\n\nJoin the UJ
 A ShinShinim for stories\, songs\, and play in Hebrew and English. Hebrew 
 Storytime happens once a month\, in partnership with Vaughan Public Librar
 ies.
DTSTART;TZID=America/Toronto:20231213T173000
DTEND;TZID=America/Toronto:20231213T181500
END:VEVENT
END:VCALENDAR
