BEGIN:VCALENDAR
PRODID:-//eluceo/ical//2.0/EN
VERSION:2.0
CALSCALE:GREGORIAN
BEGIN:VEVENT
UID:76034fbf7f9cf420db2f76c761e81cc5
DTSTAMP:20260420T014959Z
SUMMARY:Healthy Nosh with Micah Seva
DESCRIPTION:UJA Federation of Greater Toronto\nJewish Toronto Calendar\nhtt
 ps://jewishtoronto.com/calendar/healthy-nosh-with-micah-seva-1707426610\n\
 nGet ready to NOSH! Micah is a trained chef and registered dietitian speci
 alizing in modern Jewish cuisine. Her new cookbook\, "Nosh: Plant Forward 
 Recipes Celebrating Modern Jewish Cuisine\," draws inspiration from histor
 y through a 21st-century lens.\n\nThe Cookbook is not included in the tick
 et price but can be purchased separately as an add on or in person\, at th
 e event.\n\nA cooking demonstration by Micah and light refreshments from "
 Nosh: Plant Forward Recipes Celebrating Modern Jewish Cui...
DTSTART;TZID=America/Toronto:20240213T190000
DTEND;TZID=America/Toronto:20240213T210000
END:VEVENT
END:VCALENDAR
