BEGIN:VCALENDAR
PRODID:-//eluceo/ical//2.0/EN
VERSION:2.0
CALSCALE:GREGORIAN
BEGIN:VEVENT
UID:2c95cd4a5e26e23a0fb776149a991baa
DTSTAMP:20260420T195023Z
SUMMARY:Havdalah service
DESCRIPTION:UJA Federation of Greater Toronto\nJewish Toronto Calendar\nhtt
 ps://jewishtoronto.com/calendar/havdalah-service-1699375883\n\nBeit Rayim 
 Synagogue & School Havdalah service (In- Person)  Saturday November 11th 2
 023 at 7:00PMStrengthening Each Other As We Stand With IsraelJoin us at Be
 it Rayim Synagogue & School for a special community Havdalah service A tim
 e for us to bond together and share moments of COMFORT | SOULFUL SINGING |
  PRAYERa trained mental health expert will offer strategies for copingRegi
 stration is required : https://www.beitrayim.org/event/community-havdalah-
 program.html
DTSTART;TZID=America/Toronto:20231111T190000
DTEND;TZID=America/Toronto:20231111T210000
END:VEVENT
END:VCALENDAR
