BEGIN:VCALENDAR
PRODID:-//eluceo/ical//2.0/EN
VERSION:2.0
CALSCALE:GREGORIAN
BEGIN:VEVENT
UID:c33a33593b0457c8ab3bf334800665f9
DTSTAMP:20260420T021716Z
SUMMARY:Hair Cutting Day to support Chai LifeLine
DESCRIPTION:UJA Federation of Greater Toronto\nJewish Toronto Calendar\nhtt
 ps://jewishtoronto.com/calendar/hair-cutting-day-to-support-chai-lifeline-
 1711853346\n\nFREE Hair cuts\, if over 10" is cut\,  to benefit clients of
  Chai LifeLine or if less than 10" a donation of $36 for a pampering hairc
 ut.
DTSTART;TZID=America/Toronto:20240407T130000
DTEND;TZID=America/Toronto:20240407T170000
END:VEVENT
END:VCALENDAR
