BEGIN:VCALENDAR
PRODID:-//eluceo/ical//2.0/EN
VERSION:2.0
CALSCALE:GREGORIAN
BEGIN:VEVENT
UID:46f954765e147e067d967dd3a7c824ac
DTSTAMP:20260424T152400Z
SUMMARY:GTA Jewish Young Professionals Chanukkah Party
DESCRIPTION:UJA Federation of Greater Toronto\nJewish Toronto Calendar\nhtt
 ps://jewishtoronto.com/calendar/gta-jewish-young-professionals-chanukkah-p
 arty-1670266179\n\nThe GTA Jewish Young Professionals Chanukkah Party is b
 ack\, and now better than ever!\nFeaturing live music\, a cocktail open ba
 r\, a make-your-own-latke station\, and lots more delicious food\, come an
 d meet other Jewish young professionals from across the GTA\, enjoy delect
 able Chanukkah treats\, and celebrate the holiday of Chanukkah!\n\nWHEN: W
 ednesday\, December 21 @ 8pm\nWHERE: Shaarei Tefillah Congregation (3600 B
 athurst St\, Toronto)\nCOST: $16 early bird (until Dec 7)\, $20 regular pr
 ice (unt...
DTSTART;TZID=America/Toronto:20221221T200000
DTEND;TZID=America/Toronto:20221221T230000
END:VEVENT
END:VCALENDAR
